BEGIN:VCALENDAR
VERSION:2.0
PRODID:-//Dal Innovates - ECPv6.15.20//NONSGML v1.0//EN
CALSCALE:GREGORIAN
METHOD:PUBLISH
X-WR-CALNAME:Dal Innovates
X-ORIGINAL-URL:https://dalinnovates.ca
X-WR-CALDESC:Events for Dal Innovates
REFRESH-INTERVAL;VALUE=DURATION:PT1H
X-Robots-Tag:noindex
X-PUBLISHED-TTL:PT1H
BEGIN:VTIMEZONE
TZID:UTC
BEGIN:STANDARD
TZOFFSETFROM:+0000
TZOFFSETTO:+0000
TZNAME:UTC
DTSTART:20220101T000000
END:STANDARD
END:VTIMEZONE
BEGIN:VEVENT
DTSTART;TZID=UTC:20230612T120000
DTEND;TZID=UTC:20230612T140000
DTSTAMP:20260421T234005
CREATED:20230531T144857Z
LAST-MODIFIED:20230531T144857Z
UID:19883-1686571200-1686578400@dalinnovates.ca
SUMMARY:Tribe Ventures Kick-Off Halifax: Investing in Racialized Founders
DESCRIPTION:Come learn about Tribe Ventures\, an initiative to create economic opportunities\, promote wealth creation\, and contribute to the growth and development of businesses owned by racialized founders. \nThis event is an opportunity for racialized founders to showcase their businesses and connect with potential investors who are interested in diversifying their portfolios and ecosystem partners who can provide support to help them to accelerate. \nREGISTER NOW
URL:https://dalinnovates.ca/event/tribe-ventures-kick-off-halifax-investing-in-racialized-founders/
LOCATION:Tribe Network Office\, 1717 Barrington St\, Halifax\, Nova Scotia\, B3J 2A4\, Canada
ATTACH;FMTTYPE=image/jpeg:https://dalinnovates.ca/wp-content/uploads/2023/05/https___cdn.evbuc_.com_images_524577829_1070250253053_1_original.jpg
END:VEVENT
END:VCALENDAR