BEGIN:VCALENDAR
VERSION:2.0
PRODID:-//Dal Innovates - ECPv6.15.20//NONSGML v1.0//EN
CALSCALE:GREGORIAN
METHOD:PUBLISH
X-WR-CALNAME:Dal Innovates
X-ORIGINAL-URL:https://dalinnovates.ca
X-WR-CALDESC:Events for Dal Innovates
REFRESH-INTERVAL;VALUE=DURATION:PT1H
X-Robots-Tag:noindex
X-PUBLISHED-TTL:PT1H
BEGIN:VTIMEZONE
TZID:UTC
BEGIN:STANDARD
TZOFFSETFROM:+0000
TZOFFSETTO:+0000
TZNAME:UTC
DTSTART:20230101T000000
END:STANDARD
END:VTIMEZONE
BEGIN:VEVENT
DTSTART;VALUE=DATE:20241106
DTEND;VALUE=DATE:20241108
DTSTAMP:20260423T085800
CREATED:20241024T131332Z
LAST-MODIFIED:20241024T131332Z
UID:22827-1730851200-1731023999@dalinnovates.ca
SUMMARY:QueerTech Qonference (QTQ)
DESCRIPTION:QueerTech is proud to present the third annual QT Qonference (QTQ)! The organization’s most anticipated event each year\, QTQ 2024 will be held November 6-7 at a beautiful\, accessible venue in Toronto\, ON\, and virtually. \nThis hybrid\, 2-day event is all about connecting\, empowering and celebrating Canada’s 2SLGBTQIA+ tech community! Whether you’re looking to advance your career\, discover business development opportunities\, strengthen your leadership toolkit or simply have some fun with other queer professionals\, QTQ 2024 is for you! \nThe QT Qonference is crafted to have something for everyone – that’s why learning sessions are curated to support three main audiences – those looking to access tech and advance in tech\, current and aspiring leaders in tech\, and tech or tech-enabled entrepreneurs – across four content tracks: \n🤖 Technology \n🤝 Leadership \n🚀 Entrepreneurship \n💜 Mental Health & Wellness \nWhat Attendees Can Expect: \n\nLearning: facilitated workshops\, expert-led panels\, inspirational keynotes and technical talks focused on tech know-how\, leadership development\, entrepreneurship\, resilience building\, and more.\nEmployment & Hiring Opportunities: Applicable employment opportunities\, access to vetted employers\, and more.\nConnections: Dedicated community connection channels\, exhibitor zone\, and more.\nBusiness Development & Funding: Whether you’re a tech leader looking to close a client\, or a founder looking for investment\, this event is for you.\n\nThe Details: \n\nDates: 6 – 7 November\, 2024\nLocation: Toronto\nVenue: Evergreen Brick Works\, 550 Bayview Ave.\, Toronto\, ON\, M4W3X8\nFormat: Hybrid – both in-person and virtual tickets available.\nTheme: Queering Up: Expand Your Mindset to be Future-Ready\nAccessibility: QueerTech prioritizes accessibility in all events – whether the barrier pertains to ticket cost\, or access to the venue itself. Scholarship and volunteer tickets are available for QTQ 2024. The venue is fully wheelchair accessible.\n\nPlus\, use the code QTQCOMMUNITY15 to save 15% off a Professional or Founder ticket type. \nRegister Now
URL:https://dalinnovates.ca/event/queertech-qonference-qtq/
LOCATION:Evergreen Brick Works\, 550 Bayview Ave\, Toronto\, Ontario\, M4W3X8\, Canada
CATEGORIES:Conferences / Summits,Networking Event
ATTACH;FMTTYPE=image/jpeg:https://dalinnovates.ca/wp-content/uploads/2024/10/Events-Calendar-Graphic-1.jpg
END:VEVENT
END:VCALENDAR