BEGIN:VCALENDAR
VERSION:2.0
PRODID:-//Dal Innovates - ECPv6.15.20//NONSGML v1.0//EN
CALSCALE:GREGORIAN
METHOD:PUBLISH
X-WR-CALNAME:Dal Innovates
X-ORIGINAL-URL:https://dalinnovates.ca
X-WR-CALDESC:Events for Dal Innovates
REFRESH-INTERVAL;VALUE=DURATION:PT1H
X-Robots-Tag:noindex
X-PUBLISHED-TTL:PT1H
BEGIN:VTIMEZONE
TZID:UTC
BEGIN:STANDARD
TZOFFSETFROM:+0000
TZOFFSETTO:+0000
TZNAME:UTC
DTSTART:20240101T000000
END:STANDARD
END:VTIMEZONE
BEGIN:VEVENT
DTSTART;TZID=UTC:20250507T120000
DTEND;TZID=UTC:20250507T130000
DTSTAMP:20260422T050024
CREATED:20250428T124105Z
LAST-MODIFIED:20250428T124908Z
UID:24317-1746619200-1746622800@dalinnovates.ca
SUMMARY:Lab2Market Validate Info Session
DESCRIPTION:Ready to validate your research and take it beyond the lab? Learn about the Lab2Market Validate program and get your questions answered before submitting your application. \nRegister for the upcoming online Lab2Market Validate info session\nIf you’ve got a brilliant idea but don’t know where to start\, this session is for you: \n• Get the Full Picture: Learn exactly how L2M Validate can help you take your research beyond the lab—from understanding market fit to securing funding and industry connections. \n• Ask Your Questions\, Live: Hear directly from program leaders and past participants\, and get answers to your specific questions about eligibility\, timelines\, and what success looks like. \n• See if It’s the Right Fit: Not sure if this is for you? The info session is a no-pressure way to explore whether L2M Validate aligns with your goals and research ambitions. \nRegister now to secure your spot and kickstart your entrepreneurial journey.
URL:https://dalinnovates.ca/event/lab2market-validate-info-session/
LOCATION:Online
CATEGORIES:Dal Innovates Event
END:VEVENT
END:VCALENDAR