BEGIN:VCALENDAR
VERSION:2.0
PRODID:-//Dal Innovates - ECPv6.15.20//NONSGML v1.0//EN
CALSCALE:GREGORIAN
METHOD:PUBLISH
X-WR-CALNAME:Dal Innovates
X-ORIGINAL-URL:https://dalinnovates.ca
X-WR-CALDESC:Events for Dal Innovates
REFRESH-INTERVAL;VALUE=DURATION:PT1H
X-Robots-Tag:noindex
X-PUBLISHED-TTL:PT1H
BEGIN:VTIMEZONE
TZID:UTC
BEGIN:STANDARD
TZOFFSETFROM:+0000
TZOFFSETTO:+0000
TZNAME:UTC
DTSTART:20240101T000000
END:STANDARD
END:VTIMEZONE
BEGIN:VEVENT
DTSTART;TZID=UTC:20250129T163000
DTEND;TZID=UTC:20250129T183000
DTSTAMP:20260421T202336
CREATED:20250108T181635Z
LAST-MODIFIED:20250108T182051Z
UID:23281-1738168200-1738175400@dalinnovates.ca
SUMMARY:Innovation Rx: Why Innovation is the Skill You Need in Healthcare
DESCRIPTION:Are you a healthcare student wondering how innovation will shape your future career? Join us for an engaging fireside chat with Dr. Mike Dunbar and Emily Johnston\, PharmD\, and discover why innovation is one of the most important skills you’ll need in today’s healthcare landscape. From leveraging new technologies to rethinking how care is delivered\, innovation opens the door to solving real-world healthcare challenges. \nThese incredible guest speakers will share their personal journeys in entrepreneurship and offer insights on how you\, too\, can think outside the box\, regardless of your role in healthcare. Whether you’re a future doctor\, nurse\, pharmacist\, or researcher\, this is your chance to learn how innovative thinking can shape your path and impact patient care in meaningful ways. Light food and beverage will be offered. \nRegister Now
URL:https://dalinnovates.ca/event/innovation-rx-why-innovation-is-the-skill-you-need-in-healthcare/
LOCATION:Sir Charles Tupper Medical Building\, 5850 College Street\, Halifax\, Nova Scotia\, B3H 4R2\, Canada
CATEGORIES:Dal Innovates Event,Networking Event
END:VEVENT
END:VCALENDAR