BEGIN:VCALENDAR
VERSION:2.0
PRODID:-//Dal Innovates - ECPv6.15.20//NONSGML v1.0//EN
CALSCALE:GREGORIAN
METHOD:PUBLISH
X-WR-CALNAME:Dal Innovates
X-ORIGINAL-URL:https://dalinnovates.ca
X-WR-CALDESC:Events for Dal Innovates
REFRESH-INTERVAL;VALUE=DURATION:PT1H
X-Robots-Tag:noindex
X-PUBLISHED-TTL:PT1H
BEGIN:VTIMEZONE
TZID:UTC
BEGIN:STANDARD
TZOFFSETFROM:+0000
TZOFFSETTO:+0000
TZNAME:UTC
DTSTART:20240101T000000
END:STANDARD
END:VTIMEZONE
BEGIN:VEVENT
DTSTART;TZID=UTC:20250605T090000
DTEND;TZID=UTC:20250605T170000
DTSTAMP:20260422T062950
CREATED:20250513T192710Z
LAST-MODIFIED:20250513T192710Z
UID:24411-1749114000-1749142800@dalinnovates.ca
SUMMARY:Graduate Research Day
DESCRIPTION:Join Us for Graduate Research Day  \nCome celebrate the outstanding work of our graduate students at Graduate Research Day on Thursday\, June 5 at the Carleton Campus! \nExplore 50+ platform and poster presentations showcasing innovative and impactful research across disciplines. \nPulse Sandbox and Dal Innovates will also be on site\, highlighting upcoming opportunities for students and faculty interested in entrepreneurship\, innovation\, and commercialization. \nLearn more about: \n\n\nDalhousie’s innovation and entrepreneurial ecosystem \n\n\nFunding opportunities to kickstart your innovation \n\n\nClinical Spaces Tours \n\n\nDemo Day Pitch event \n\n\nWhether you’re curious about cutting-edge research\, seeking startup inspiration\, or looking to connect with Dal’s growing innovation community — we hope to see you there!
URL:https://dalinnovates.ca/event/graduate-research-day/
LOCATION:Sir Charles Tupper Medical Building\, 5850 College Street\, Halifax\, Nova Scotia\, B3H 4R2\, Canada
CATEGORIES:Conferences / Summits
END:VEVENT
END:VCALENDAR