BEGIN:VCALENDAR
VERSION:2.0
PRODID:-//Dal Innovates - ECPv6.15.20//NONSGML v1.0//EN
CALSCALE:GREGORIAN
METHOD:PUBLISH
X-WR-CALNAME:Dal Innovates
X-ORIGINAL-URL:https://dalinnovates.ca
X-WR-CALDESC:Events for Dal Innovates
REFRESH-INTERVAL;VALUE=DURATION:PT1H
X-Robots-Tag:noindex
X-PUBLISHED-TTL:PT1H
BEGIN:VTIMEZONE
TZID:UTC
BEGIN:STANDARD
TZOFFSETFROM:+0000
TZOFFSETTO:+0000
TZNAME:UTC
DTSTART:20240101T000000
END:STANDARD
END:VTIMEZONE
BEGIN:VEVENT
DTSTART;TZID=UTC:20250122T170000
DTEND;TZID=UTC:20250122T200000
DTSTAMP:20260421T183615
CREATED:20250108T181937Z
LAST-MODIFIED:20250108T181939Z
UID:23286-1737565200-1737576000@dalinnovates.ca
SUMMARY:FOUNDERS Night
DESCRIPTION:FOUNDERS Night aims to inspire students and the next generation of founders and CEOs by highlighting 9 Dalhousie-originated or Atlantic Canada thriving CEOs and their entrepreneurial journeys. These guest speakers will tell stories about their business and open the floor to questions on what and how their business became successful. \nRegister Now
URL:https://dalinnovates.ca/event/founders-night/
LOCATION:Rowe Management Building
CATEGORIES:Dal Innovates Event,Networking Event
END:VEVENT
END:VCALENDAR