BEGIN:VCALENDAR
VERSION:2.0
PRODID:-//Dal Innovates - ECPv6.15.20//NONSGML v1.0//EN
CALSCALE:GREGORIAN
METHOD:PUBLISH
X-WR-CALNAME:Dal Innovates
X-ORIGINAL-URL:https://dalinnovates.ca
X-WR-CALDESC:Events for Dal Innovates
REFRESH-INTERVAL;VALUE=DURATION:PT1H
X-Robots-Tag:noindex
X-PUBLISHED-TTL:PT1H
BEGIN:VTIMEZONE
TZID:UTC
BEGIN:STANDARD
TZOFFSETFROM:+0000
TZOFFSETTO:+0000
TZNAME:UTC
DTSTART:20230101T000000
END:STANDARD
END:VTIMEZONE
BEGIN:VEVENT
DTSTART;TZID=UTC:20241107T170000
DTEND;TZID=UTC:20241109T190000
DTSTAMP:20260421T101739
CREATED:20241024T130335Z
LAST-MODIFIED:20241024T130335Z
UID:22818-1730998800-1731178800@dalinnovates.ca
SUMMARY:Find Your Cofounder: Tech & Entrepreneurship
DESCRIPTION:👩‍💻Come Find Your Cofounder!👨‍💻 \nJoin us for the Find Your Cofounder: Tech & Entrepreneurship Event on November 6th\, 7th & 8th! Co-hosted by ShiftKey Labs\, Dal Inovates\, and the Arthur L. Irving Entrepreneurship Centre\, each day is unique and takes place in a different location with amazing entrepreneur speakers and delicious food! You can attend all three days or just the days that you are interested in. \n💡Day 1: At the new and innovative space of the Sobey Inspiration Hub (SH212) and the Arthur L. Irving Entrepreneurship Centre\, you will dive how to talk tech to non tech start-ups and why entrepreneurship is important in the tech industry. \n💡Day 2: At the Auditorium of the Goldberg Computer Science Building\, learn about the importance of tech in entrepreneurship and what entrepreneurial skills are vital for tech and non tech start-ups. \n💡Day 3 is all about meeting your cofounders and networking. It will end with a panel discussion featuring the speakers from Day 1 & Day 2\, followed by an audience Q/A\, and an amazing dinner! \nRegister Now
URL:https://dalinnovates.ca/event/find-your-cofounder-tech-entrepreneurship/
LOCATION:Arthur L. Irving Entrepreneurship Centre\, 5907 Gorsebrook Avenue\, Halifax\, Nova Scotia\, B3H 1G3\, Canada
CATEGORIES:Dal Innovates Event,Networking Event
ATTACH;FMTTYPE=image/jpeg:https://dalinnovates.ca/wp-content/uploads/2024/10/Find-your-cofounder-graphic.jpg
END:VEVENT
END:VCALENDAR