BEGIN:VCALENDAR
VERSION:2.0
PRODID:-//Dal Innovates - ECPv6.15.20//NONSGML v1.0//EN
CALSCALE:GREGORIAN
METHOD:PUBLISH
X-WR-CALNAME:Dal Innovates
X-ORIGINAL-URL:https://dalinnovates.ca
X-WR-CALDESC:Events for Dal Innovates
REFRESH-INTERVAL;VALUE=DURATION:PT1H
X-Robots-Tag:noindex
X-PUBLISHED-TTL:PT1H
BEGIN:VTIMEZONE
TZID:UTC
BEGIN:STANDARD
TZOFFSETFROM:+0000
TZOFFSETTO:+0000
TZNAME:UTC
DTSTART:20250101T000000
END:STANDARD
END:VTIMEZONE
BEGIN:VEVENT
DTSTART;TZID=UTC:20260123T180000
DTEND;TZID=UTC:20260124T170000
DTSTAMP:20260422T094925
CREATED:20260107T205407Z
LAST-MODIFIED:20260114T183850Z
UID:25671-1769191200-1769274000@dalinnovates.ca
SUMMARY:Blue Collaborathon
DESCRIPTION:What if you could help shape the future of ocean stewardship in Nova Scotia? \nThe Blue Collaborathon is back for its second year — and it’s your chance to team up with multidisciplinary Dalhousie students to tackle real ocean challenges through creativity\, collaboration\, and innovation. \nOver two days\, you’ll dive into: \n\nHands-on problem solving\nDesign thinking & storytelling\nIndustry mentorship\nInteractive workshops\nTeam-based innovation\n\nREGISTER HERE \nDay 1: Jan. 23 (Fri. 6–9 PM) \nLearn from guest speakers\, explore the state of ocean stewardship in Nova Scotia\, and form teams to define the challenge you’ll tackle. \nDay 2: Jan. 24 (Sat. 9 AM–5 PM) \nStoryboard\, build\, and pitch your solution to a panel of judges — with prizes up for grabs! \nThis event is catered. Please register as an individual — you’ll form or join a team of 4–5 students during the event. \nSee you on the 5th Floor of the Rowe Building!
URL:https://dalinnovates.ca/event/blue-collaborathon/
LOCATION:The Deloitte Greenhouse\, Kenneth C. Rowe Management Bldg\, Room 5053\, 6100 University Avenue\, Halifax\, Nova Scotia\, B3H 4R2\, Canada
CATEGORIES:Dal Innovates Event
ATTACH;FMTTYPE=image/jpeg:https://dalinnovates.ca/wp-content/uploads/2026/01/Blue-Collaborathon-Jan-23-24.jpg
END:VEVENT
END:VCALENDAR