BEGIN:VCALENDAR
VERSION:2.0
PRODID:-//Dal Innovates - ECPv6.15.20//NONSGML v1.0//EN
CALSCALE:GREGORIAN
METHOD:PUBLISH
X-WR-CALNAME:Dal Innovates
X-ORIGINAL-URL:https://dalinnovates.ca
X-WR-CALDESC:Events for Dal Innovates
REFRESH-INTERVAL;VALUE=DURATION:PT1H
X-Robots-Tag:noindex
X-PUBLISHED-TTL:PT1H
BEGIN:VTIMEZONE
TZID:UTC
BEGIN:STANDARD
TZOFFSETFROM:+0000
TZOFFSETTO:+0000
TZNAME:UTC
DTSTART:20220101T000000
END:STANDARD
END:VTIMEZONE
BEGIN:VEVENT
DTSTART;TZID=UTC:20230718T100000
DTEND;TZID=UTC:20230718T110000
DTSTAMP:20260421T184331
CREATED:20230711T122239Z
LAST-MODIFIED:20230711T122239Z
UID:20059-1689674400-1689678000@dalinnovates.ca
SUMMARY:Barries & Challenges facing 2SLGBTQ+ Community in the tech industry
DESCRIPTION:Creating an open and inclusive work environment that attracts and retains diverse talent has never been more essential to remain competitive. 2SLGBTQ+ people working in markets across Canada experience various workplace cultures and barriers to inclusion unique to this population. Despite progress toward wholly inclusive and diverse workplace environments\, more must be done regarding stigmatization\, higher risk of harassment\, intersectionality\, and lack of visibility\, especially for Transgender and Gender Non-Conforming (TGNC) people. This webinar aims to increase awareness and understanding of the challenges and barriers facing members of the 2SLGBTQ+ communities in the workplace and to provide practical steps for creating more inclusive and supportive work environments. \n3 Key Takeaways.. \n\nThe term ‘Pride’ represents a way of embracing one’s identity\, turning away from shame\, and honoring diversity.\nMany individuals who experience discrimination based on their sexual orientation\, race\, religion\, or ethnicity are forced to mask their true selves on a daily basis. This can drain their energy and limit their potential in the workplace.\nAllyship is crucial. This means engaging with local communities and taking action\, such as normalizing the use of pronouns at work\, offering gender-affirming healthcare benefits\, and reviewing policies to ensure they’re inclusive for everyone.
URL:https://dalinnovates.ca/event/barries-challenges-facing-2slgbtq-community-in-the-tech-industry/
LOCATION:Online
CATEGORIES:Webinar / Workshop
ATTACH;FMTTYPE=image/png:https://dalinnovates.ca/wp-content/uploads/2023/07/Queertech2.png
END:VEVENT
END:VCALENDAR