BEGIN:VCALENDAR
VERSION:2.0
PRODID:-//Dal Innovates - ECPv6.15.20//NONSGML v1.0//EN
CALSCALE:GREGORIAN
METHOD:PUBLISH
X-WR-CALNAME:Dal Innovates
X-ORIGINAL-URL:https://dalinnovates.ca
X-WR-CALDESC:Events for Dal Innovates
REFRESH-INTERVAL;VALUE=DURATION:PT1H
X-Robots-Tag:noindex
X-PUBLISHED-TTL:PT1H
BEGIN:VTIMEZONE
TZID:UTC
BEGIN:STANDARD
TZOFFSETFROM:+0000
TZOFFSETTO:+0000
TZNAME:UTC
DTSTART:20220101T000000
END:STANDARD
END:VTIMEZONE
BEGIN:VEVENT
DTSTART;VALUE=DATE:20230613
DTEND;VALUE=DATE:20230615
DTSTAMP:20260421T215735
CREATED:20230531T122715Z
LAST-MODIFIED:20230531T123049Z
UID:19878-1686614400-1686787199@dalinnovates.ca
SUMMARY:Atlantic Venture Forum
DESCRIPTION:The entrepreneurial landscape has changed significantly since the first AVF in 2013. As the ecosystem continues to gain momentum\, the AVF is being transformed to meet the needs of this dynamic region. New ventures and growth-stage companies need more than just financial capital to succeed. Innovation\, partnerships\, ingenuity\, and expertise are just a few of the ingredients for an entrepreneur’s tech success story\, and you will find all of these and more when you join us for the 2023 Atlantic Venture Forum. \nGrow Your Business! \nPremium Networking: Tech Industry Executives\, Entrepreneurs\, Investors\, Corporate Strategics\, Research Partners\, and more.\nInspiration and Ingenuity: A Technology Showcase featuring outstanding Early Stage companies complimented by mature Growth Stage companies\, all from the Atlantic Canadian region.\nBusiness Intelligence: The latest investment and innovation trends direct from Industry Experts. \nREGISTER NOW
URL:https://dalinnovates.ca/event/atlantic-venture-forum/
LOCATION:Halifax Marriott Harbourfront Hotel\, 1919 Upper Water St\, Halifax\, Nova Scotia\, B3J 3J5\, Canada
CATEGORIES:Conferences / Summits,Networking Event
ATTACH;FMTTYPE=image/jpeg:https://dalinnovates.ca/wp-content/uploads/2023/05/AVF-2023-LinkedIn-Banner-221118-e1675358273720-1024x520-1.jpg
END:VEVENT
END:VCALENDAR