BEGIN:VCALENDAR
VERSION:2.0
PRODID:-//Dal Innovates - ECPv6.15.20//NONSGML v1.0//EN
CALSCALE:GREGORIAN
METHOD:PUBLISH
X-WR-CALNAME:Dal Innovates
X-ORIGINAL-URL:https://dalinnovates.ca
X-WR-CALDESC:Events for Dal Innovates
REFRESH-INTERVAL;VALUE=DURATION:PT1H
X-Robots-Tag:noindex
X-PUBLISHED-TTL:PT1H
BEGIN:VTIMEZONE
TZID:UTC
BEGIN:STANDARD
TZOFFSETFROM:+0000
TZOFFSETTO:+0000
TZNAME:UTC
DTSTART:20230101T000000
END:STANDARD
END:VTIMEZONE
BEGIN:VEVENT
DTSTART;TZID=UTC:20241107T170000
DTEND;TZID=UTC:20241107T213000
DTSTAMP:20260421T114956
CREATED:20241024T131613Z
LAST-MODIFIED:20241024T131613Z
UID:22831-1730998800-1731015000@dalinnovates.ca
SUMMARY:2024 Tech Forward Awards
DESCRIPTION:Digital Nova Scotia is pleased to invite you to the 2024 Tech Forward Awards presented by RBC. Join industry leaders for a night of celebration to highlight and recognize organizations\, and individuals who are making a difference in the ICT sector in Nova Scotia. \nDoors open: 5:00 pm\nCocktails: 5:00pm-6:30pm\nDinner served: 6:30pm\nAward ceremony begins: 7:30pm \nThe Tech Forward Awards presented by RBC features 8 unique awards: \n\nTalent Champion Award by Humankind Global Recruitment\nTech for Good Award by CGI\nThinking Forward Award\nProvincial Spotlight Award by Invest Nova Scotia\nBest of Tech Award\, sponsored by Compugen\nOne to Watch Award\, sponsored by Dash Hudson\nRole Model Award\nDiversity and Inclusion Champion Award\n\nTogether we are recognizing that diversity is fuelling innovation in our province\, and the impact and influence of leaders in our community. Thank you to our sponsors and selection committee for making this years event possible! \nRegister Now
URL:https://dalinnovates.ca/event/2024-tech-forward-awards/
LOCATION:Halifax Marriott Harbourfront Hotel\, 1919 Upper Water St\, Halifax\, Nova Scotia\, B3J 3J5\, Canada
CATEGORIES:Networking Event
ATTACH;FMTTYPE=image/jpeg:https://dalinnovates.ca/wp-content/uploads/2024/10/Tech-Forward-Awards-2024.jpg
END:VEVENT
END:VCALENDAR