BEGIN:VCALENDAR
VERSION:2.0
PRODID:-//Dal Innovates - ECPv6.15.20//NONSGML v1.0//EN
CALSCALE:GREGORIAN
METHOD:PUBLISH
X-WR-CALNAME:Dal Innovates
X-ORIGINAL-URL:https://dalinnovates.ca
X-WR-CALDESC:Events for Dal Innovates
REFRESH-INTERVAL;VALUE=DURATION:PT1H
X-Robots-Tag:noindex
X-PUBLISHED-TTL:PT1H
BEGIN:VTIMEZONE
TZID:UTC
BEGIN:STANDARD
TZOFFSETFROM:+0000
TZOFFSETTO:+0000
TZNAME:UTC
DTSTART:20220101T000000
END:STANDARD
END:VTIMEZONE
BEGIN:VEVENT
DTSTART;TZID=UTC:20230608T160000
DTEND;TZID=UTC:20230608T180000
DTSTAMP:20260422T012427
CREATED:20230531T121459Z
LAST-MODIFIED:20230531T121459Z
UID:19865-1686240000-1686247200@dalinnovates.ca
SUMMARY:2023 Summer Social
DESCRIPTION:Looking for a chance to connect with other businesses in our area? Look no further than IGNITE’s Summer Social event\, in partnership with the Yarmouth Chamber of Commerce\, the Western REN and the CBDC. \nThis exciting event will take place Thursday June 8th from 4pm to 6pm at Heritage Brewing\, providing the perfect atmosphere for networking and connecting with our local business community. As well as the chance to meet other professionals\, attendees will also be able to learn about upcoming events and opportunities in the area. \nThis event is open to the entire community. Admission is free. Mark your calendars and we will see you June 8th! \nREGISTER NOW
URL:https://dalinnovates.ca/event/2023-summer-social/
LOCATION:Heritage Brewing Co\, 250 Main St.\, Yarmouth\, Nova Scotia\, B5A 1C9\, Canada
CATEGORIES:Networking Event
ATTACH;FMTTYPE=image/jpeg:https://dalinnovates.ca/wp-content/uploads/2023/05/2023-980x490-1.jpg
END:VEVENT
END:VCALENDAR