BEGIN:VCALENDAR
VERSION:2.0
PRODID:-//Dal Innovates - ECPv6.15.20//NONSGML v1.0//EN
CALSCALE:GREGORIAN
METHOD:PUBLISH
X-WR-CALNAME:Dal Innovates
X-ORIGINAL-URL:https://dalinnovates.ca
X-WR-CALDESC:Events for Dal Innovates
REFRESH-INTERVAL;VALUE=DURATION:PT1H
X-Robots-Tag:noindex
X-PUBLISHED-TTL:PT1H
BEGIN:VTIMEZONE
TZID:UTC
BEGIN:STANDARD
TZOFFSETFROM:+0000
TZOFFSETTO:+0000
TZNAME:UTC
DTSTART:20220101T000000
END:STANDARD
END:VTIMEZONE
BEGIN:VEVENT
DTSTART;VALUE=DATE:20230717
DTEND;VALUE=DATE:20230721
DTSTAMP:20260421T201459
CREATED:20230531T122118Z
LAST-MODIFIED:20230615T151319Z
UID:19872-1689552000-1689897599@dalinnovates.ca
SUMMARY:$100 Youth Startup Challenge
DESCRIPTION:IGNITE is again hosting it’s annual $100 Youth Startup Challenge! \nThis four-day Summer Camp provides youth with an opportunity to develop their entrepreneurial skills and gain hands-on experience in creating products and starting and running a business. \nAt the start of the Camp\, the participants are given $100 to create thier own idea and bring it to life. Throughout the week they wil work through the process of developing their business until the final day when they take their product “to Market” to sell. The students will keep all profits earned. The goal is to encourage creativity and resourcefulness\, as well as to teach participants how to manage a budget and make smart business decisions. \nThrough this event\, IGNITE aims to foster a culture of entrepreneurship among young people and empower them to become leaders in their communities. Participants not only gain valuable skills\, but also have the chance to connect with mentors to help them take this to the next level. \nOverall\, the $100 Challenge is an exciting opportunity for young people to explore their passion for entrepreneurship and develop skills they need to succeed! \nLEARN MORE
URL:https://dalinnovates.ca/event/100-youth-startup-challenge/
LOCATION:IGNITE Southern\, 208 Main Street\, Yarmouth\, Nova Scotia\, B5A 1C7\, Canada
CATEGORIES:Competition,Networking Event
ATTACH;FMTTYPE=image/jpeg:https://dalinnovates.ca/wp-content/uploads/2023/05/100-CHALLENGE-2023-CAMP-Eventbrite-2160-×-1080-px-1080x675-1.jpg
END:VEVENT
END:VCALENDAR